BEGIN:VCALENDAR
VERSION:2.0
PRODID:-//flexiEdge Training PLT - ECPv6.0.11//NONSGML v1.0//EN
CALSCALE:GREGORIAN
METHOD:PUBLISH
X-WR-CALNAME:flexiEdge Training PLT
X-ORIGINAL-URL:https://www.flexiedge.com.my
X-WR-CALDESC:Events for flexiEdge Training PLT
REFRESH-INTERVAL;VALUE=DURATION:PT1H
X-Robots-Tag:noindex
X-PUBLISHED-TTL:PT1H
BEGIN:VTIMEZONE
TZID:Asia/Shanghai
BEGIN:STANDARD
TZOFFSETFROM:+0800
TZOFFSETTO:+0800
TZNAME:CST
DTSTART:20250101T000000
END:STANDARD
END:VTIMEZONE
BEGIN:VEVENT
DTSTART;TZID=Asia/Shanghai:20250508T090000
DTEND;TZID=Asia/Shanghai:20250508T170000
DTSTAMP:20260422T161958
CREATED:20250228T082538Z
LAST-MODIFIED:20250402T063122Z
UID:2100-1746694800-1746723600@www.flexiedge.com.my
SUMMARY:[Confirmed] Energy Efficiency and Conservation Act (EECA) 2024
DESCRIPTION:Overview:  \nThe Energy Efficiency and Conservation Act 2024 program is a comprehensive one-day program designed to educate participants on the key aspects of the newly enacted legislation aimed at enhancing energy efficiency across various sectors. The training will cover the historical context\, important provisions\, and compliance requirements of the Act\, as well as best practices for implementation. \n  \nLearning Outcomes: \nUpon completion of program\, participants will be able to: \n(1) Explain the key provisions and objectives of the Energy Efficiency and Conservation Act 2024; \n(2) Identify compliance requirements and best practices for energy efficiency initiatives; \n(3) Develop strategies for stakeholder engagement and collaboration; and \n(4) Recognize emerging trends and technologies in energy efficiency. \n  \nWho Should Attend:\nBusiness owners\, Directors\, CEOs\, General Managers\, Managers\, Executives\, Supervisors\, Engineering\, Facilities\, Maintenance\, Environment\, Health & Safety (EHS) Team. \n  \n \nDownload Brochure & Registration Form
URL:https://www.flexiedge.com.my/event/energy-efficiency-and-conservation-act-eeca-2024/
LOCATION:Eastern & Oriental (E&O) Hotel Penang\, 10\, Lebuh Farquhar\, Georgetown\, Penang\, 10200\, Malaysia
CATEGORIES:Energy Efficiency,Regulatory & Compliance,Sustainability
END:VEVENT
END:VCALENDAR