BEGIN:VCALENDAR
VERSION:2.0
PRODID:-//flexiEdge Training PLT - ECPv6.0.11//NONSGML v1.0//EN
CALSCALE:GREGORIAN
METHOD:PUBLISH
X-WR-CALNAME:flexiEdge Training PLT
X-ORIGINAL-URL:https://www.flexiedge.com.my
X-WR-CALDESC:Events for flexiEdge Training PLT
REFRESH-INTERVAL;VALUE=DURATION:PT1H
X-Robots-Tag:noindex
X-PUBLISHED-TTL:PT1H
BEGIN:VTIMEZONE
TZID:Asia/Shanghai
BEGIN:STANDARD
TZOFFSETFROM:+0800
TZOFFSETTO:+0800
TZNAME:CST
DTSTART:20210101T000000
END:STANDARD
END:VTIMEZONE
BEGIN:VEVENT
DTSTART;TZID=Asia/Shanghai:20210223T090000
DTEND;TZID=Asia/Shanghai:20210223T170000
DTSTAMP:20260422T205750
CREATED:20210121T040056Z
LAST-MODIFIED:20210121T040056Z
UID:1729-1614070800-1614099600@www.flexiedge.com.my
SUMMARY:Breakthrough Leadership: VUCA !
DESCRIPTION:Introduction:\nYou cannot stop events such as the rapid changing market places\, and with business advances progressing faster every day\, as a leader: How do you anticipate\, avoid\, resolve or even “save” your organization in this ever changing business landscape? Despite being beneficial at time\, changes in external environment (read political\, economical\, social\, technological) have brought with it increased volatility\, uncertainty\, complexity and ambiguity or\, as it’s now known in leadership language as VUCA. Welcome to the new norm called VUCA\, or face organizational disaster. Welcome to the new art and style of leadership in the 21st Century. \n  \nObjectives/Benefits:\n\nRealise and Understand the impact of VUCA in today’s dynamic business;\nSeriously examine the VUCA principle in order to apply its practicality;\nImplement unique skills and techniques to lead through VUCA;\nEnhance leadership self-awareness in today’s ever changing world;\nBring to fore the fullest potential of your team members by using tools and techniques of VUCA;\nApply the best leadership principles which are inspiring;\nBecome an effective and efficient leader in the modern world;\nHow to turn VUCA to your advantage;\nLinking VUCA to Strategic Thinking\, Innovation & Creativity.\n\n\nWho Should Attend:\nThis program is prepared for all levels – from junior manager\, up & coming managers\, senior managers\, C-suites\, leaders\, managers and anyone who has departmental or higher responsibilities\, plus identified talent\, high potentials and future leaders. \n  \n \nDownload Brochure & Registration Form
URL:https://www.flexiedge.com.my/event/breakthrough-leadership-vuca/
LOCATION:Online Training via Zoom
CATEGORIES:Leadership,Management
ATTACH;FMTTYPE=image/jpeg:https://www.flexiedge.com.my/wp-content/uploads/2021/01/black-3509513_1920-1.jpg
END:VEVENT
END:VCALENDAR