BEGIN:VCALENDAR
VERSION:2.0
PRODID:-//flexiEdge Training PLT - ECPv6.0.11//NONSGML v1.0//EN
CALSCALE:GREGORIAN
METHOD:PUBLISH
X-WR-CALNAME:flexiEdge Training PLT
X-ORIGINAL-URL:https://www.flexiedge.com.my
X-WR-CALDESC:Events for flexiEdge Training PLT
REFRESH-INTERVAL;VALUE=DURATION:PT1H
X-Robots-Tag:noindex
X-PUBLISHED-TTL:PT1H
BEGIN:VTIMEZONE
TZID:Asia/Shanghai
BEGIN:STANDARD
TZOFFSETFROM:+0800
TZOFFSETTO:+0800
TZNAME:CST
DTSTART:20200101T000000
END:STANDARD
END:VTIMEZONE
BEGIN:VEVENT
DTSTART;VALUE=DATE:20200406
DTEND;VALUE=DATE:20200410
DTSTAMP:20260422T223912
CREATED:20200401T074914Z
LAST-MODIFIED:20200401T075722Z
UID:1658-1586131200-1586476799@www.flexiedge.com.my
SUMMARY:E-Development Crash Course
DESCRIPTION:While you Work From Home (WFH)\, E-Develop yourselves / your employees strategically and tactically.\nHow? Interested to find out more?\n1. How It Works?\n– Learn simple planning tools\, exercise your structured thinking\, get yourselves coached\, with the minimal time spent\, through this E-Development Crash Course. \n  \n2. Advantages:\n– Instant – Anywhere\, anytime\, anyone. \n– Interactive – Two-way learning. \n– Informative – Simple & relevant; takes only minutes to learn & apply. \n– Improvement – Rapid coaching. \n– Independent – Knowledge does not need any reference workbook\, charts or model to remember. \n  \n 3. Benefits to HR/ Employees:\n– Keeps employees in checked (WFH). \n– Easy development framework / Learning new tools. \n– Upskill employees / Being coached. \n– Preparing employees for what’s next. \n– Continuous learning. \n\n***We are having 45-minute online preview sessions on the following slots:\n\n06/04/2020\, Monday   11.00 am or 2.00 pm\n07/04/2020\, Tuesday  11.00 am or 2.00 pm\n09/04/2020\, Thursday 11.00 am or 2.00 pm\n\nClick the QR code to sign up and pick your preferred online preview session for free. \nClick the QR code to pick your session \n  \n***Each online preview session is limited to 5 pax only and is on first-come-first-served basis. \n  \nContact us now at 012-479 8377 (Ms Felicia Tham) or 013-588 355 (Mr Quah ES) for further information. \n 
URL:https://www.flexiedge.com.my/event/e-development-crash-course/
LOCATION:Hotel Equatorial Penang\, 1\, Jalan Bukit Jambul\, Bayan Lepas\, Penang\, 11900\, Malaysia
CATEGORIES:Communication,Leadership,Planning,Problem Solving
ATTACH;FMTTYPE=image/jpeg:https://www.flexiedge.com.my/wp-content/uploads/2020/04/communication-4141527_1920.jpg
ORGANIZER;CN="flexiEdge%20Training%20PLT":MAILTO:administrator@flexiedge.com.my
END:VEVENT
END:VCALENDAR