BEGIN:VCALENDAR
VERSION:2.0
PRODID:-//flexiEdge Training PLT - ECPv6.0.11//NONSGML v1.0//EN
CALSCALE:GREGORIAN
METHOD:PUBLISH
X-WR-CALNAME:flexiEdge Training PLT
X-ORIGINAL-URL:https://www.flexiedge.com.my
X-WR-CALDESC:Events for flexiEdge Training PLT
REFRESH-INTERVAL;VALUE=DURATION:PT1H
X-Robots-Tag:noindex
X-PUBLISHED-TTL:PT1H
BEGIN:VTIMEZONE
TZID:Asia/Shanghai
BEGIN:STANDARD
TZOFFSETFROM:+0800
TZOFFSETTO:+0800
TZNAME:CST
DTSTART:20180101T000000
END:STANDARD
END:VTIMEZONE
BEGIN:VEVENT
DTSTART;TZID=Asia/Shanghai:20210318T090000
DTEND;TZID=Asia/Shanghai:20210318T170000
DTSTAMP:20260422T205603
CREATED:20210225T024437Z
LAST-MODIFIED:20210225T024437Z
UID:1746-1616058000-1616086800@www.flexiedge.com.my
SUMMARY:8D Problem Solving Methodology
DESCRIPTION:Introduction:\nWhenever there is a quality problem reported by the customer\, we always have problem in writing an effective 8D report. The 8D methodology requires a team effort to ensure that there is communication between “interested parties” and that interactions are identified and effects assessed. \n  \nLearning Outcomes:\nBy the end of this program\, participants will be able to: \n\nDescribe what is the 8D system;\nUse team approach to solve problems;\nDescribe the problems effectively;\nContain the problems;\nIdentify the root causes of the problems;\nIdentify and implement corrective and preventive actions;\nMinimize or solve problems.\n\n\nWho Should Attend:\nManagers\, Engineers\, Supervisors\, Clerical Staff\, and staff involved with writing 8D report. \n  \n \nDownload Brochure & Registration Form
URL:https://www.flexiedge.com.my/event/8d-problem-solving-methodology/
LOCATION:Online Training via Zoom
CATEGORIES:Problem Solving
ATTACH;FMTTYPE=image/jpeg:https://www.flexiedge.com.my/wp-content/uploads/2021/02/serg-antonov-VYVp_vONi40-unsplash.jpg
END:VEVENT
BEGIN:VEVENT
DTSTART;VALUE=DATE:20200406
DTEND;VALUE=DATE:20200410
DTSTAMP:20260422T205603
CREATED:20200401T074914Z
LAST-MODIFIED:20200401T075722Z
UID:1658-1586131200-1586476799@www.flexiedge.com.my
SUMMARY:E-Development Crash Course
DESCRIPTION:While you Work From Home (WFH)\, E-Develop yourselves / your employees strategically and tactically.\nHow? Interested to find out more?\n1. How It Works?\n– Learn simple planning tools\, exercise your structured thinking\, get yourselves coached\, with the minimal time spent\, through this E-Development Crash Course. \n  \n2. Advantages:\n– Instant – Anywhere\, anytime\, anyone. \n– Interactive – Two-way learning. \n– Informative – Simple & relevant; takes only minutes to learn & apply. \n– Improvement – Rapid coaching. \n– Independent – Knowledge does not need any reference workbook\, charts or model to remember. \n  \n 3. Benefits to HR/ Employees:\n– Keeps employees in checked (WFH). \n– Easy development framework / Learning new tools. \n– Upskill employees / Being coached. \n– Preparing employees for what’s next. \n– Continuous learning. \n\n***We are having 45-minute online preview sessions on the following slots:\n\n06/04/2020\, Monday   11.00 am or 2.00 pm\n07/04/2020\, Tuesday  11.00 am or 2.00 pm\n09/04/2020\, Thursday 11.00 am or 2.00 pm\n\nClick the QR code to sign up and pick your preferred online preview session for free. \nClick the QR code to pick your session \n  \n***Each online preview session is limited to 5 pax only and is on first-come-first-served basis. \n  \nContact us now at 012-479 8377 (Ms Felicia Tham) or 013-588 355 (Mr Quah ES) for further information. \n 
URL:https://www.flexiedge.com.my/event/e-development-crash-course/
LOCATION:Hotel Equatorial Penang\, 1\, Jalan Bukit Jambul\, Bayan Lepas\, Penang\, 11900\, Malaysia
CATEGORIES:Communication,Leadership,Planning,Problem Solving
ATTACH;FMTTYPE=image/jpeg:https://www.flexiedge.com.my/wp-content/uploads/2020/04/communication-4141527_1920.jpg
ORGANIZER;CN="flexiEdge%20Training%20PLT":MAILTO:administrator@flexiedge.com.my
END:VEVENT
BEGIN:VEVENT
DTSTART;TZID=Asia/Shanghai:20180515T090000
DTEND;TZID=Asia/Shanghai:20180516T170000
DTSTAMP:20260422T205603
CREATED:20180320T051021Z
LAST-MODIFIED:20180320T051047Z
UID:1269-1526374800-1526490000@www.flexiedge.com.my
SUMMARY:7 Steps Problem Solving Process (PSP) Methodology
DESCRIPTION:Introduction:\nThere is an increasing awareness that problem solving skill among employees is an important and essential and critical skill for organization success and to remain viable in today’s very competitive business environment. Employee empowerment and involvement has made a breakthrough in employees’ thinking to take responsibility for the processes that are under their control. However employees’ today are plagued with increasing demands for attaining higher performance goals and sustaining performance that demands employee ability to solve problems and apply discretion where they do not normally do so until very recently. \nThe quality revolution has brought about increasing customers’ demands and higher expectation to lower cost of production to maintain profitability. These twins conflicting objectives mean that the workforce including management personnel must constantly collaborate and deploy intelligence throughout the organization. This is necessitated by the need to co-opt the whole workforce in this collaborate process to deal with problematic issues that are being faced by all organizations with incessant rapidity. The workforces’ improved capability to solve problem become a necessary requirements in any continuous improvement journey embarked by any organizations. \n  \nLearning Objectives:\nUpon completion of this program\, participants will be able to: \n\nApply organized method of approaching a problem and the thinking habit that is essential to ensure a successful problem solving in the organization;\nRecognize the type of problem or failure and know how to apply the right tools to collect information and analyze the data for developing effective countermeasure and solution;\nBe exposed to the 7 Steps Problem Solving Process (PSP) Methodology;\nLearn how to track\, check and monitor the implementation by using a Problem Progress Report.\n\n\nWho Should Attend:\nProduction and Operation Executives\, Engineers and Supervisors\, Quality\, Technical\, Engineering and those involved in Continuous Improvement activities in any organization. \n  \n \nDownload Brochure & Registration Form
URL:https://www.flexiedge.com.my/event/7-steps-problem-solving-process-psp-methodology/
LOCATION:Sunway Hotel Seberang Jaya\, 11\, Lebuh Tenggiri Dua\, Bandar Seberang Jaya\, Prai\, Penang\, 13700\, Malaysia
CATEGORIES:Problem Solving
ATTACH;FMTTYPE=image/jpeg:https://www.flexiedge.com.my/wp-content/uploads/2017/09/pexels-photo-355988-e1512059393472.jpeg
END:VEVENT
END:VCALENDAR