BEGIN:VCALENDAR
VERSION:2.0
PRODID:-//flexiEdge Training PLT - ECPv6.0.11//NONSGML v1.0//EN
CALSCALE:GREGORIAN
METHOD:PUBLISH
X-WR-CALNAME:flexiEdge Training PLT
X-ORIGINAL-URL:https://www.flexiedge.com.my
X-WR-CALDESC:Events for flexiEdge Training PLT
REFRESH-INTERVAL;VALUE=DURATION:PT1H
X-Robots-Tag:noindex
X-PUBLISHED-TTL:PT1H
BEGIN:VTIMEZONE
TZID:Asia/Shanghai
BEGIN:STANDARD
TZOFFSETFROM:+0800
TZOFFSETTO:+0800
TZNAME:CST
DTSTART:20190101T000000
END:STANDARD
END:VTIMEZONE
BEGIN:VEVENT
DTSTART;TZID=Asia/Shanghai:20200406T090000
DTEND;TZID=Asia/Shanghai:20200407T170000
DTSTAMP:20260422T205806
CREATED:20200312T095557Z
LAST-MODIFIED:20200312T095557Z
UID:1637-1586163600-1586278800@www.flexiedge.com.my
SUMMARY:MASTERING INCOTERMS 2020 (ICC) IN IMPORT EXPORT MANAGEMENT
DESCRIPTION:Introduction:\nThe new INCOTERMS 2020 by International Chambers of Commerce (ICC) comes into effect on 01 January 2020. Highlights being the formulation of DAT and DAP as replacement and the chain of security and string sales precautions. \nThe contemporary business landscape changes has created a proliferation of additional trading risks and costs across the borderless territories. In these crucial risk gaps\, proper understanding and application of Incoterms would contribute to a viable contingency plan in and out of the distribution chain. A stronger defensive resolution would be in place against all contractual predicaments. \nHighlights of the programs includes: \n\nThe 4D’s Roadmap of Incoterms Strategic Planning;\nThe Simplified Operational Factors of the 4C’s;\nThe Comparison Illustration of Incoterms 2010 and 2020;\nThe appropriation of Incoterms contractual documentation.\n\n\nLearning Outcomes:\nAt the end of the program\, participants should be able to: \n\nUnderstand the provisions and resolutions of Incoterms 2010/2020;\nLearn the contractual and operational constraints of Incoterms;\nManage the risks and costs in the Incoterms distribution chain;\nAnticipate the forth coming changes of 2020 Incoterms.\n\n\nWho Should Attend:\nImporters\, Exporters\, Managers\, Executives\, Officers in the field of Finance\, Costing\, Planning\, Logistics\, Shipping\, Supply Chain\, Procurement\, Marketing\, Business Development\, Customer Service. \n  \n \nDownload Brochure & Registration Form
URL:https://www.flexiedge.com.my/event/mastering-incoterms-2020-icc-in-import-export-management/
LOCATION:Hotel Equatorial Penang\, 1\, Jalan Bukit Jambul\, Bayan Lepas\, Penang\, 11900\, Malaysia
CATEGORIES:Import & Export,Logistics,Shipping,Supply Chain
ATTACH;FMTTYPE=image/jpeg:https://www.flexiedge.com.my/wp-content/uploads/2020/03/INCOTERMS-2020.jpg
ORGANIZER;CN="flexiEdge%20Training%20PLT":MAILTO:administrator@flexiedge.com.my
END:VEVENT
BEGIN:VEVENT
DTSTART;TZID=Asia/Shanghai:20190617T090000
DTEND;TZID=Asia/Shanghai:20190618T170000
DTSTAMP:20260422T205806
CREATED:20190411T044406Z
LAST-MODIFIED:20190412T090048Z
UID:1507-1560762000-1560877200@www.flexiedge.com.my
SUMMARY:ROOT CAUSE YOUR PLASTIC PART PROBLEMS
DESCRIPTION:Overview:\nThis course examines the possible root cause/s of the variety of problems encountered during the production\, assembly and usage of injection molded plastic parts. With expeditious root-causing a solution can be implemented to resume production\, earn customers’ trust\, and bring in revenue. \nLearning Outcomes:\nUpon completion of program\, participants will be able to: \n\nKnow the root-cause/s of problems encountered throughout the supply chain of the plastic part: at the CAD designer stage\, at the toolmaker stage\, at the molding machine\, during back-end assembly\, during usage by the end-customer;\nUnderstand that problems frequently originate from CAD and tool design\, which then makes it very difficult to eliminate by tweaking injection molding parameters. Identify those CAD and tool design shortcomings early\, before tooling is started;\nPut in corrective measures\, even at CAD stage\, to avoid recurrence;\nGap analysis between your DFM report and your actual problems; and\nWhere relevant\, scientific explanations are offered as to why those problems happened.\n\nTarget Group:\nThis two-day course is offered to anyone involved in the supply chain of plastics parts and products. Any rank from the departments of R&D\, NPI\, Marketing\, Project Management\, Process Improvement\, Manufacturing\, Production Quality\, Supplier Quality\, Procurement\, Customer Quality\, will benefit from knowing how to expeditiously root-cause a defect/failure of a plastic part. Knowing the root-cause also acts as a check and balance to wasteful guesswork efforts. \nIdeally\, the participants should have some knowledge of plastics materials\, injection moulding tooling and processes\, FEA\, and engineering fundamentals\, although the basics will be introduced. \nCompanies with CAD engineers and tool designers in the injection-moulding industries will benefit as it prepares them to spot design shortcomings in the CAD files\, before steel is cut. \nCompanies with back-end assemblers\, and users of the plastic parts\, will benefit by recognizing where the defect/failure originated in order to quickly resolve the issue for the end-customers. \nSenior Management is encouraged to attend so that long-term solutions can be established. \n  \n \nDownload Brochure & Registration Form
URL:https://www.flexiedge.com.my/event/root-cause-your-plastic-part-problems/
LOCATION:Hotel Equatorial Penang\, 1\, Jalan Bukit Jambul\, Bayan Lepas\, Penang\, 11900\, Malaysia
CATEGORIES:Plastic,Supply Chain
ATTACH;FMTTYPE=image/jpeg:https://www.flexiedge.com.my/wp-content/uploads/2019/04/straws-2483707_1920.jpg
END:VEVENT
END:VCALENDAR