BEGIN:VCALENDAR
VERSION:2.0
PRODID:-//flexiEdge Training PLT - ECPv6.0.11//NONSGML v1.0//EN
CALSCALE:GREGORIAN
METHOD:PUBLISH
X-WR-CALNAME:flexiEdge Training PLT
X-ORIGINAL-URL:https://www.flexiedge.com.my
X-WR-CALDESC:Events for flexiEdge Training PLT
REFRESH-INTERVAL;VALUE=DURATION:PT1H
X-Robots-Tag:noindex
X-PUBLISHED-TTL:PT1H
BEGIN:VTIMEZONE
TZID:Asia/Shanghai
BEGIN:STANDARD
TZOFFSETFROM:+0800
TZOFFSETTO:+0800
TZNAME:CST
DTSTART:20190101T000000
END:STANDARD
END:VTIMEZONE
BEGIN:VEVENT
DTSTART;TZID=Asia/Shanghai:20190729T090000
DTEND;TZID=Asia/Shanghai:20190730T170000
DTSTAMP:20260422T192742
CREATED:20190529T035840Z
LAST-MODIFIED:20190530T095206Z
UID:1556-1564390800-1564506000@www.flexiedge.com.my
SUMMARY:TIME & STRESS MASTERY - Enhance\, Plan\, Organize & Perform
DESCRIPTION:Overview & Introduction:\nDo you find yourself overloaded with work? Feel so stretched to the limit you can’t set priorities? Exhaust yourself daily without accomplishing your goals? \nIn this course\, you will practice techniques that will drive you to eliminate your time wasters & time thieves so that you can direct your energy towards the activities that will further your corporate goals. \nYour tool kit will include World of Time Map\, Time & Energy Profiling\, Time Planning Process Model\, Time Management Questionnaire\, Time Log\, Time Matrix (Important vs Urgent)\, ABC Analysis\, Pareto Rule\, Issues/Impact Matrix\, Performance Curve. Some other effective techniques used will include Mission Statement\, Affirmations\, Visualization\, Mind Mapping\, SWISH (Breaking Limiting Beliefs) & Scaling Technique. \nYou will also learn how you select choices which help you achieve your success. Learn to be an extraordinary performer! \nLearning Outcomes – Knowledgeable\, High Impact\, Practical:\nLearn to: \n\nShift direction from managing time to managing self;\nGain control of your work life by eliminating time wasters/ time thieves;\nCharacterise & profile your time style\, energy level\, performance curve\, personal strengths & motivators to perform at peak;\nPrioritize to reduce stress & get rid of limiting beliefs towards time;\nDeal with information overload & manage technology effectively;\nArticulate your time goals – highlight opportunities for improvements;\nUse your time log to maximize usage of time\, plan & schedule;\nTackle time shortcomings & create a system tailored to your personal style;\nApply understanding of body rhythm to align energy levels to deliver expectations & results;\nCraft an action plan\, make a commitment & stay positive!\n\nWho Should Attend-A Must For ALL!\nALL managers\, executives\, supervisors\, all support & admin personnel\, sales & marketing\, customer service & front desk\, PR\, technical staff\, engineers\, production staff\, QA staff – all who wants to learn to apply & maximize their time at the workplace. \n  \n \nDownload Brochure & Registration Form
URL:https://www.flexiedge.com.my/event/time-stress-mastery-enhance-plan-organize-perform/
LOCATION:Hotel Royal Kuala Lumpur\, Jalan Walter Grenier\, Kuala Lumpur\, Kuala Lumpur\, 55100\, Malaysia
CATEGORIES:Stress Management,Time Management
ATTACH;FMTTYPE=image/jpeg:https://www.flexiedge.com.my/wp-content/uploads/2019/05/hurry-2119711_1920.jpg
END:VEVENT
END:VCALENDAR